BEGIN:VCALENDAR
VERSION:2.0
PRODID:-//Westlake Charter School - ECPv6.15.17.1//NONSGML v1.0//EN
CALSCALE:GREGORIAN
METHOD:PUBLISH
X-ORIGINAL-URL:https://westlakecharter.com
X-WR-CALDESC:Events for Westlake Charter School
REFRESH-INTERVAL;VALUE=DURATION:PT1H
X-Robots-Tag:noindex
X-PUBLISHED-TTL:PT1H
BEGIN:VTIMEZONE
TZID:America/Los_Angeles
BEGIN:DAYLIGHT
TZOFFSETFROM:-0800
TZOFFSETTO:-0700
TZNAME:PDT
DTSTART:20260308T100000
END:DAYLIGHT
BEGIN:STANDARD
TZOFFSETFROM:-0700
TZOFFSETTO:-0800
TZNAME:PST
DTSTART:20261101T090000
END:STANDARD
BEGIN:DAYLIGHT
TZOFFSETFROM:-0800
TZOFFSETTO:-0700
TZNAME:PDT
DTSTART:20270314T100000
END:DAYLIGHT
BEGIN:STANDARD
TZOFFSETFROM:-0700
TZOFFSETTO:-0800
TZNAME:PST
DTSTART:20271107T090000
END:STANDARD
BEGIN:DAYLIGHT
TZOFFSETFROM:-0800
TZOFFSETTO:-0700
TZNAME:PDT
DTSTART:20280312T100000
END:DAYLIGHT
BEGIN:STANDARD
TZOFFSETFROM:-0700
TZOFFSETTO:-0800
TZNAME:PST
DTSTART:20281105T090000
END:STANDARD
END:VTIMEZONE
BEGIN:VEVENT
DTSTART;TZID=America/Los_Angeles:20270104T151500
DTEND;TZID=America/Los_Angeles:20270104T163000
DTSTAMP:20260423T191546
CREATED:20260410T042225Z
LAST-MODIFIED:20260410T042225Z
UID:1181-1799075700-1799080200@westlakecharter.com
SUMMARY:Book Fair
DESCRIPTION:Here is our link for the Westlake Charter Scholastic Book Fair.
URL:https://westlakecharter.com/event/book-fair-113/
LOCATION:Westlake Charter School\, 2680 Mabry Dr\, Sacramento\, CA 95835\, USA\, E116 Galapagos Islands (Media Center)
CATEGORIES:Featured
END:VEVENT
BEGIN:VEVENT
DTSTART;TZID=America/Los_Angeles:20270105T151500
DTEND;TZID=America/Los_Angeles:20270105T163000
DTSTAMP:20260423T191546
CREATED:20260410T042225Z
LAST-MODIFIED:20260410T042225Z
UID:1182-1799162100-1799166600@westlakecharter.com
SUMMARY:Book Fair
DESCRIPTION:Here is our link for the Westlake Charter Scholastic Book Fair.
URL:https://westlakecharter.com/event/book-fair-114/
LOCATION:Westlake Charter School\, 2680 Mabry Dr\, Sacramento\, CA 95835\, USA\, E116 Galapagos Islands (Media Center)
CATEGORIES:Featured
END:VEVENT
BEGIN:VEVENT
DTSTART;TZID=America/Los_Angeles:20270107T151500
DTEND;TZID=America/Los_Angeles:20270107T163000
DTSTAMP:20260423T191546
CREATED:20260410T042226Z
LAST-MODIFIED:20260410T042226Z
UID:1183-1799334900-1799339400@westlakecharter.com
SUMMARY:Book Fair
DESCRIPTION:Here is our link for the Westlake Charter Scholastic Book Fair.
URL:https://westlakecharter.com/event/book-fair-115/
LOCATION:Westlake Charter School\, 2680 Mabry Dr\, Sacramento\, CA 95835\, USA\, E116 Galapagos Islands (Media Center)
CATEGORIES:Featured
END:VEVENT
BEGIN:VEVENT
DTSTART;TZID=America/Los_Angeles:20270111T151500
DTEND;TZID=America/Los_Angeles:20270111T163000
DTSTAMP:20260423T191546
CREATED:20260410T042226Z
LAST-MODIFIED:20260410T042226Z
UID:1184-1799680500-1799685000@westlakecharter.com
SUMMARY:Book Fair
DESCRIPTION:Here is our link for the Westlake Charter Scholastic Book Fair.
URL:https://westlakecharter.com/event/book-fair-116/
LOCATION:Westlake Charter School\, 2680 Mabry Dr\, Sacramento\, CA 95835\, USA\, E116 Galapagos Islands (Media Center)
CATEGORIES:Featured
END:VEVENT
BEGIN:VEVENT
DTSTART;TZID=America/Los_Angeles:20270112T151500
DTEND;TZID=America/Los_Angeles:20270112T163000
DTSTAMP:20260423T191546
CREATED:20260410T042226Z
LAST-MODIFIED:20260410T042226Z
UID:1185-1799766900-1799771400@westlakecharter.com
SUMMARY:Book Fair
DESCRIPTION:Here is our link for the Westlake Charter Scholastic Book Fair.
URL:https://westlakecharter.com/event/book-fair-117/
LOCATION:Westlake Charter School\, 2680 Mabry Dr\, Sacramento\, CA 95835\, USA\, E116 Galapagos Islands (Media Center)
CATEGORIES:Featured
END:VEVENT
BEGIN:VEVENT
DTSTART;TZID=America/Los_Angeles:20270114T151500
DTEND;TZID=America/Los_Angeles:20270114T163000
DTSTAMP:20260423T191546
CREATED:20260410T042227Z
LAST-MODIFIED:20260410T042227Z
UID:1186-1799939700-1799944200@westlakecharter.com
SUMMARY:Book Fair
DESCRIPTION:Here is our link for the Westlake Charter Scholastic Book Fair.
URL:https://westlakecharter.com/event/book-fair-118/
LOCATION:Westlake Charter School\, 2680 Mabry Dr\, Sacramento\, CA 95835\, USA\, E116 Galapagos Islands (Media Center)
CATEGORIES:Featured
END:VEVENT
BEGIN:VEVENT
DTSTART;TZID=America/Los_Angeles:20270118T151500
DTEND;TZID=America/Los_Angeles:20270118T163000
DTSTAMP:20260423T191546
CREATED:20260410T042227Z
LAST-MODIFIED:20260410T042227Z
UID:1187-1800285300-1800289800@westlakecharter.com
SUMMARY:Book Fair
DESCRIPTION:Here is our link for the Westlake Charter Scholastic Book Fair.
URL:https://westlakecharter.com/event/book-fair-119/
LOCATION:Westlake Charter School\, 2680 Mabry Dr\, Sacramento\, CA 95835\, USA\, E116 Galapagos Islands (Media Center)
CATEGORIES:Featured
END:VEVENT
BEGIN:VEVENT
DTSTART;TZID=America/Los_Angeles:20270119T151500
DTEND;TZID=America/Los_Angeles:20270119T163000
DTSTAMP:20260423T191546
CREATED:20260410T042227Z
LAST-MODIFIED:20260410T042227Z
UID:1188-1800371700-1800376200@westlakecharter.com
SUMMARY:Book Fair
DESCRIPTION:Here is our link for the Westlake Charter Scholastic Book Fair.
URL:https://westlakecharter.com/event/book-fair-120/
LOCATION:Westlake Charter School\, 2680 Mabry Dr\, Sacramento\, CA 95835\, USA\, E116 Galapagos Islands (Media Center)
CATEGORIES:Featured
END:VEVENT
BEGIN:VEVENT
DTSTART;TZID=America/Los_Angeles:20270121T151500
DTEND;TZID=America/Los_Angeles:20270121T163000
DTSTAMP:20260423T191546
CREATED:20260410T042227Z
LAST-MODIFIED:20260410T042227Z
UID:1189-1800544500-1800549000@westlakecharter.com
SUMMARY:Book Fair
DESCRIPTION:Here is our link for the Westlake Charter Scholastic Book Fair.
URL:https://westlakecharter.com/event/book-fair-121/
LOCATION:Westlake Charter School\, 2680 Mabry Dr\, Sacramento\, CA 95835\, USA\, E116 Galapagos Islands (Media Center)
CATEGORIES:Featured
END:VEVENT
BEGIN:VEVENT
DTSTART;TZID=America/Los_Angeles:20270125T151500
DTEND;TZID=America/Los_Angeles:20270125T163000
DTSTAMP:20260423T191546
CREATED:20260410T042228Z
LAST-MODIFIED:20260410T042228Z
UID:1190-1800890100-1800894600@westlakecharter.com
SUMMARY:Book Fair
DESCRIPTION:Here is our link for the Westlake Charter Scholastic Book Fair.
URL:https://westlakecharter.com/event/book-fair-122/
LOCATION:Westlake Charter School\, 2680 Mabry Dr\, Sacramento\, CA 95835\, USA\, E116 Galapagos Islands (Media Center)
CATEGORIES:Featured
END:VEVENT
BEGIN:VEVENT
DTSTART;TZID=America/Los_Angeles:20270126T151500
DTEND;TZID=America/Los_Angeles:20270126T163000
DTSTAMP:20260423T191546
CREATED:20260410T042228Z
LAST-MODIFIED:20260410T042228Z
UID:1191-1800976500-1800981000@westlakecharter.com
SUMMARY:Book Fair
DESCRIPTION:Here is our link for the Westlake Charter Scholastic Book Fair.
URL:https://westlakecharter.com/event/book-fair-123/
LOCATION:Westlake Charter School\, 2680 Mabry Dr\, Sacramento\, CA 95835\, USA\, E116 Galapagos Islands (Media Center)
CATEGORIES:Featured
END:VEVENT
BEGIN:VEVENT
DTSTART;TZID=America/Los_Angeles:20270128T151500
DTEND;TZID=America/Los_Angeles:20270128T163000
DTSTAMP:20260423T191546
CREATED:20260410T042228Z
LAST-MODIFIED:20260410T042228Z
UID:1192-1801149300-1801153800@westlakecharter.com
SUMMARY:Book Fair
DESCRIPTION:Here is our link for the Westlake Charter Scholastic Book Fair.
URL:https://westlakecharter.com/event/book-fair-124/
LOCATION:Westlake Charter School\, 2680 Mabry Dr\, Sacramento\, CA 95835\, USA\, E116 Galapagos Islands (Media Center)
CATEGORIES:Featured
END:VEVENT
END:VCALENDAR