BEGIN:VCALENDAR
VERSION:2.0
PRODID:-//Westlake Charter School - ECPv6.15.17.1//NONSGML v1.0//EN
CALSCALE:GREGORIAN
METHOD:PUBLISH
X-WR-CALNAME:Westlake Charter School
X-ORIGINAL-URL:https://westlakecharter.com
X-WR-CALDESC:Events for Westlake Charter School
REFRESH-INTERVAL;VALUE=DURATION:PT1H
X-Robots-Tag:noindex
X-PUBLISHED-TTL:PT1H
BEGIN:VTIMEZONE
TZID:America/Los_Angeles
BEGIN:DAYLIGHT
TZOFFSETFROM:-0800
TZOFFSETTO:-0700
TZNAME:PDT
DTSTART:20250309T100000
END:DAYLIGHT
BEGIN:STANDARD
TZOFFSETFROM:-0700
TZOFFSETTO:-0800
TZNAME:PST
DTSTART:20251102T090000
END:STANDARD
BEGIN:DAYLIGHT
TZOFFSETFROM:-0800
TZOFFSETTO:-0700
TZNAME:PDT
DTSTART:20260308T100000
END:DAYLIGHT
BEGIN:STANDARD
TZOFFSETFROM:-0700
TZOFFSETTO:-0800
TZNAME:PST
DTSTART:20261101T090000
END:STANDARD
BEGIN:DAYLIGHT
TZOFFSETFROM:-0800
TZOFFSETTO:-0700
TZNAME:PDT
DTSTART:20270314T100000
END:DAYLIGHT
BEGIN:STANDARD
TZOFFSETFROM:-0700
TZOFFSETTO:-0800
TZNAME:PST
DTSTART:20271107T090000
END:STANDARD
END:VTIMEZONE
BEGIN:VEVENT
DTSTART;TZID=America/Los_Angeles:20261201T151500
DTEND;TZID=America/Los_Angeles:20261201T163000
DTSTAMP:20260423T142135
CREATED:20260410T042222Z
LAST-MODIFIED:20260410T042222Z
UID:1167-1796138100-1796142600@westlakecharter.com
SUMMARY:Book Fair
DESCRIPTION:Here is our link for the Westlake Charter Scholastic Book Fair.
URL:https://westlakecharter.com/event/book-fair-99/
LOCATION:Westlake Charter School\, 2680 Mabry Dr\, Sacramento\, CA 95835\, USA\, E116 Galapagos Islands (Media Center)
CATEGORIES:Featured
END:VEVENT
BEGIN:VEVENT
DTSTART;TZID=America/Los_Angeles:20261203T151500
DTEND;TZID=America/Los_Angeles:20261203T163000
DTSTAMP:20260423T142135
CREATED:20260410T042223Z
LAST-MODIFIED:20260410T042223Z
UID:1168-1796310900-1796315400@westlakecharter.com
SUMMARY:Book Fair
DESCRIPTION:Here is our link for the Westlake Charter Scholastic Book Fair.
URL:https://westlakecharter.com/event/book-fair-100/
LOCATION:Westlake Charter School\, 2680 Mabry Dr\, Sacramento\, CA 95835\, USA\, E116 Galapagos Islands (Media Center)
CATEGORIES:Featured
END:VEVENT
BEGIN:VEVENT
DTSTART;TZID=America/Los_Angeles:20261207T151500
DTEND;TZID=America/Los_Angeles:20261207T163000
DTSTAMP:20260423T142135
CREATED:20260410T042223Z
LAST-MODIFIED:20260410T042223Z
UID:1169-1796656500-1796661000@westlakecharter.com
SUMMARY:Book Fair
DESCRIPTION:Here is our link for the Westlake Charter Scholastic Book Fair.
URL:https://westlakecharter.com/event/book-fair-101/
LOCATION:Westlake Charter School\, 2680 Mabry Dr\, Sacramento\, CA 95835\, USA\, E116 Galapagos Islands (Media Center)
CATEGORIES:Featured
END:VEVENT
BEGIN:VEVENT
DTSTART;TZID=America/Los_Angeles:20261208T151500
DTEND;TZID=America/Los_Angeles:20261208T163000
DTSTAMP:20260423T142135
CREATED:20260410T042223Z
LAST-MODIFIED:20260410T042223Z
UID:1170-1796742900-1796747400@westlakecharter.com
SUMMARY:Book Fair
DESCRIPTION:Here is our link for the Westlake Charter Scholastic Book Fair.
URL:https://westlakecharter.com/event/book-fair-102/
LOCATION:Westlake Charter School\, 2680 Mabry Dr\, Sacramento\, CA 95835\, USA\, E116 Galapagos Islands (Media Center)
CATEGORIES:Featured
END:VEVENT
BEGIN:VEVENT
DTSTART;TZID=America/Los_Angeles:20261210T151500
DTEND;TZID=America/Los_Angeles:20261210T163000
DTSTAMP:20260423T142135
CREATED:20260410T042223Z
LAST-MODIFIED:20260410T042223Z
UID:1171-1796915700-1796920200@westlakecharter.com
SUMMARY:Book Fair
DESCRIPTION:Here is our link for the Westlake Charter Scholastic Book Fair.
URL:https://westlakecharter.com/event/book-fair-103/
LOCATION:Westlake Charter School\, 2680 Mabry Dr\, Sacramento\, CA 95835\, USA\, E116 Galapagos Islands (Media Center)
CATEGORIES:Featured
END:VEVENT
BEGIN:VEVENT
DTSTART;TZID=America/Los_Angeles:20261214T151500
DTEND;TZID=America/Los_Angeles:20261214T163000
DTSTAMP:20260423T142135
CREATED:20260410T042223Z
LAST-MODIFIED:20260410T042223Z
UID:1172-1797261300-1797265800@westlakecharter.com
SUMMARY:Book Fair
DESCRIPTION:Here is our link for the Westlake Charter Scholastic Book Fair.
URL:https://westlakecharter.com/event/book-fair-104/
LOCATION:Westlake Charter School\, 2680 Mabry Dr\, Sacramento\, CA 95835\, USA\, E116 Galapagos Islands (Media Center)
CATEGORIES:Featured
END:VEVENT
BEGIN:VEVENT
DTSTART;TZID=America/Los_Angeles:20261215T151500
DTEND;TZID=America/Los_Angeles:20261215T163000
DTSTAMP:20260423T142135
CREATED:20260410T042224Z
LAST-MODIFIED:20260410T042224Z
UID:1173-1797347700-1797352200@westlakecharter.com
SUMMARY:Book Fair
DESCRIPTION:Here is our link for the Westlake Charter Scholastic Book Fair.
URL:https://westlakecharter.com/event/book-fair-105/
LOCATION:Westlake Charter School\, 2680 Mabry Dr\, Sacramento\, CA 95835\, USA\, E116 Galapagos Islands (Media Center)
CATEGORIES:Featured
END:VEVENT
BEGIN:VEVENT
DTSTART;TZID=America/Los_Angeles:20261217T151500
DTEND;TZID=America/Los_Angeles:20261217T163000
DTSTAMP:20260423T142135
CREATED:20260410T042224Z
LAST-MODIFIED:20260410T042224Z
UID:1174-1797520500-1797525000@westlakecharter.com
SUMMARY:Book Fair
DESCRIPTION:Here is our link for the Westlake Charter Scholastic Book Fair.
URL:https://westlakecharter.com/event/book-fair-106/
LOCATION:Westlake Charter School\, 2680 Mabry Dr\, Sacramento\, CA 95835\, USA\, E116 Galapagos Islands (Media Center)
CATEGORIES:Featured
END:VEVENT
BEGIN:VEVENT
DTSTART;TZID=America/Los_Angeles:20261221T151500
DTEND;TZID=America/Los_Angeles:20261221T163000
DTSTAMP:20260423T142135
CREATED:20260410T042224Z
LAST-MODIFIED:20260410T042224Z
UID:1175-1797866100-1797870600@westlakecharter.com
SUMMARY:Book Fair
DESCRIPTION:Here is our link for the Westlake Charter Scholastic Book Fair.
URL:https://westlakecharter.com/event/book-fair-107/
LOCATION:Westlake Charter School\, 2680 Mabry Dr\, Sacramento\, CA 95835\, USA\, E116 Galapagos Islands (Media Center)
CATEGORIES:Featured
END:VEVENT
BEGIN:VEVENT
DTSTART;TZID=America/Los_Angeles:20261222T151500
DTEND;TZID=America/Los_Angeles:20261222T163000
DTSTAMP:20260423T142135
CREATED:20260410T042224Z
LAST-MODIFIED:20260410T042224Z
UID:1176-1797952500-1797957000@westlakecharter.com
SUMMARY:Book Fair
DESCRIPTION:Here is our link for the Westlake Charter Scholastic Book Fair.
URL:https://westlakecharter.com/event/book-fair-108/
LOCATION:Westlake Charter School\, 2680 Mabry Dr\, Sacramento\, CA 95835\, USA\, E116 Galapagos Islands (Media Center)
CATEGORIES:Featured
END:VEVENT
BEGIN:VEVENT
DTSTART;TZID=America/Los_Angeles:20261224T151500
DTEND;TZID=America/Los_Angeles:20261224T163000
DTSTAMP:20260423T142135
CREATED:20260410T042224Z
LAST-MODIFIED:20260410T042224Z
UID:1177-1798125300-1798129800@westlakecharter.com
SUMMARY:Book Fair
DESCRIPTION:Here is our link for the Westlake Charter Scholastic Book Fair.
URL:https://westlakecharter.com/event/book-fair-109/
LOCATION:Westlake Charter School\, 2680 Mabry Dr\, Sacramento\, CA 95835\, USA\, E116 Galapagos Islands (Media Center)
CATEGORIES:Featured
END:VEVENT
BEGIN:VEVENT
DTSTART;TZID=America/Los_Angeles:20261228T151500
DTEND;TZID=America/Los_Angeles:20261228T163000
DTSTAMP:20260423T142135
CREATED:20260410T042224Z
LAST-MODIFIED:20260410T042224Z
UID:1178-1798470900-1798475400@westlakecharter.com
SUMMARY:Book Fair
DESCRIPTION:Here is our link for the Westlake Charter Scholastic Book Fair.
URL:https://westlakecharter.com/event/book-fair-110/
LOCATION:Westlake Charter School\, 2680 Mabry Dr\, Sacramento\, CA 95835\, USA\, E116 Galapagos Islands (Media Center)
CATEGORIES:Featured
END:VEVENT
BEGIN:VEVENT
DTSTART;TZID=America/Los_Angeles:20261229T151500
DTEND;TZID=America/Los_Angeles:20261229T163000
DTSTAMP:20260423T142135
CREATED:20260410T042225Z
LAST-MODIFIED:20260410T042225Z
UID:1179-1798557300-1798561800@westlakecharter.com
SUMMARY:Book Fair
DESCRIPTION:Here is our link for the Westlake Charter Scholastic Book Fair.
URL:https://westlakecharter.com/event/book-fair-111/
LOCATION:Westlake Charter School\, 2680 Mabry Dr\, Sacramento\, CA 95835\, USA\, E116 Galapagos Islands (Media Center)
CATEGORIES:Featured
END:VEVENT
BEGIN:VEVENT
DTSTART;TZID=America/Los_Angeles:20261231T151500
DTEND;TZID=America/Los_Angeles:20261231T163000
DTSTAMP:20260423T142135
CREATED:20260410T042225Z
LAST-MODIFIED:20260410T042225Z
UID:1180-1798730100-1798734600@westlakecharter.com
SUMMARY:Book Fair
DESCRIPTION:Here is our link for the Westlake Charter Scholastic Book Fair.
URL:https://westlakecharter.com/event/book-fair-112/
LOCATION:Westlake Charter School\, 2680 Mabry Dr\, Sacramento\, CA 95835\, USA\, E116 Galapagos Islands (Media Center)
CATEGORIES:Featured
END:VEVENT
END:VCALENDAR