BEGIN:VCALENDAR
VERSION:2.0
PRODID:-//Westlake Charter School - ECPv6.15.17.1//NONSGML v1.0//EN
CALSCALE:GREGORIAN
METHOD:PUBLISH
X-ORIGINAL-URL:https://westlakecharter.com
X-WR-CALDESC:Events for Westlake Charter School
REFRESH-INTERVAL;VALUE=DURATION:PT1H
X-Robots-Tag:noindex
X-PUBLISHED-TTL:PT1H
BEGIN:VTIMEZONE
TZID:America/Los_Angeles
BEGIN:DAYLIGHT
TZOFFSETFROM:-0800
TZOFFSETTO:-0700
TZNAME:PDT
DTSTART:20250309T100000
END:DAYLIGHT
BEGIN:STANDARD
TZOFFSETFROM:-0700
TZOFFSETTO:-0800
TZNAME:PST
DTSTART:20251102T090000
END:STANDARD
BEGIN:DAYLIGHT
TZOFFSETFROM:-0800
TZOFFSETTO:-0700
TZNAME:PDT
DTSTART:20260308T100000
END:DAYLIGHT
BEGIN:STANDARD
TZOFFSETFROM:-0700
TZOFFSETTO:-0800
TZNAME:PST
DTSTART:20261101T090000
END:STANDARD
BEGIN:DAYLIGHT
TZOFFSETFROM:-0800
TZOFFSETTO:-0700
TZNAME:PDT
DTSTART:20270314T100000
END:DAYLIGHT
BEGIN:STANDARD
TZOFFSETFROM:-0700
TZOFFSETTO:-0800
TZNAME:PST
DTSTART:20271107T090000
END:STANDARD
END:VTIMEZONE
BEGIN:VEVENT
DTSTART;TZID=America/Los_Angeles:20260803T151500
DTEND;TZID=America/Los_Angeles:20260803T163000
DTSTAMP:20260423T063043
CREATED:20260410T042215Z
LAST-MODIFIED:20260410T042215Z
UID:1115-1785770100-1785774600@westlakecharter.com
SUMMARY:Book Fair
DESCRIPTION:Here is our link for the Westlake Charter Scholastic Book Fair.
URL:https://westlakecharter.com/event/book-fair-47/
LOCATION:Westlake Charter School\, 2680 Mabry Dr\, Sacramento\, CA 95835\, USA\, E116 Galapagos Islands (Media Center)
CATEGORIES:Featured
END:VEVENT
BEGIN:VEVENT
DTSTART;TZID=America/Los_Angeles:20260804T151500
DTEND;TZID=America/Los_Angeles:20260804T163000
DTSTAMP:20260423T063043
CREATED:20260410T042215Z
LAST-MODIFIED:20260410T042215Z
UID:1116-1785856500-1785861000@westlakecharter.com
SUMMARY:Book Fair
DESCRIPTION:Here is our link for the Westlake Charter Scholastic Book Fair.
URL:https://westlakecharter.com/event/book-fair-48/
LOCATION:Westlake Charter School\, 2680 Mabry Dr\, Sacramento\, CA 95835\, USA\, E116 Galapagos Islands (Media Center)
CATEGORIES:Featured
END:VEVENT
BEGIN:VEVENT
DTSTART;TZID=America/Los_Angeles:20260806T151500
DTEND;TZID=America/Los_Angeles:20260806T163000
DTSTAMP:20260423T063043
CREATED:20260410T042215Z
LAST-MODIFIED:20260410T042215Z
UID:1117-1786029300-1786033800@westlakecharter.com
SUMMARY:Book Fair
DESCRIPTION:Here is our link for the Westlake Charter Scholastic Book Fair.
URL:https://westlakecharter.com/event/book-fair-49/
LOCATION:Westlake Charter School\, 2680 Mabry Dr\, Sacramento\, CA 95835\, USA\, E116 Galapagos Islands (Media Center)
CATEGORIES:Featured
END:VEVENT
BEGIN:VEVENT
DTSTART;TZID=America/Los_Angeles:20260810T151500
DTEND;TZID=America/Los_Angeles:20260810T163000
DTSTAMP:20260423T063043
CREATED:20260410T042215Z
LAST-MODIFIED:20260410T042215Z
UID:1118-1786374900-1786379400@westlakecharter.com
SUMMARY:Book Fair
DESCRIPTION:Here is our link for the Westlake Charter Scholastic Book Fair.
URL:https://westlakecharter.com/event/book-fair-50/
LOCATION:Westlake Charter School\, 2680 Mabry Dr\, Sacramento\, CA 95835\, USA\, E116 Galapagos Islands (Media Center)
CATEGORIES:Featured
END:VEVENT
BEGIN:VEVENT
DTSTART;TZID=America/Los_Angeles:20260811T151500
DTEND;TZID=America/Los_Angeles:20260811T163000
DTSTAMP:20260423T063043
CREATED:20260410T042215Z
LAST-MODIFIED:20260410T042215Z
UID:1119-1786461300-1786465800@westlakecharter.com
SUMMARY:Book Fair
DESCRIPTION:Here is our link for the Westlake Charter Scholastic Book Fair.
URL:https://westlakecharter.com/event/book-fair-51/
LOCATION:Westlake Charter School\, 2680 Mabry Dr\, Sacramento\, CA 95835\, USA\, E116 Galapagos Islands (Media Center)
CATEGORIES:Featured
END:VEVENT
BEGIN:VEVENT
DTSTART;TZID=America/Los_Angeles:20260813T151500
DTEND;TZID=America/Los_Angeles:20260813T163000
DTSTAMP:20260423T063043
CREATED:20260410T042215Z
LAST-MODIFIED:20260410T042215Z
UID:1120-1786634100-1786638600@westlakecharter.com
SUMMARY:Book Fair
DESCRIPTION:Here is our link for the Westlake Charter Scholastic Book Fair.
URL:https://westlakecharter.com/event/book-fair-52/
LOCATION:Westlake Charter School\, 2680 Mabry Dr\, Sacramento\, CA 95835\, USA\, E116 Galapagos Islands (Media Center)
CATEGORIES:Featured
END:VEVENT
BEGIN:VEVENT
DTSTART;TZID=America/Los_Angeles:20260817T151500
DTEND;TZID=America/Los_Angeles:20260817T163000
DTSTAMP:20260423T063043
CREATED:20260410T042215Z
LAST-MODIFIED:20260410T042215Z
UID:1121-1786979700-1786984200@westlakecharter.com
SUMMARY:Book Fair
DESCRIPTION:Here is our link for the Westlake Charter Scholastic Book Fair.
URL:https://westlakecharter.com/event/book-fair-53/
LOCATION:Westlake Charter School\, 2680 Mabry Dr\, Sacramento\, CA 95835\, USA\, E116 Galapagos Islands (Media Center)
CATEGORIES:Featured
END:VEVENT
BEGIN:VEVENT
DTSTART;TZID=America/Los_Angeles:20260818T151500
DTEND;TZID=America/Los_Angeles:20260818T163000
DTSTAMP:20260423T063043
CREATED:20260410T042216Z
LAST-MODIFIED:20260410T042216Z
UID:1122-1787066100-1787070600@westlakecharter.com
SUMMARY:Book Fair
DESCRIPTION:Here is our link for the Westlake Charter Scholastic Book Fair.
URL:https://westlakecharter.com/event/book-fair-54/
LOCATION:Westlake Charter School\, 2680 Mabry Dr\, Sacramento\, CA 95835\, USA\, E116 Galapagos Islands (Media Center)
CATEGORIES:Featured
END:VEVENT
BEGIN:VEVENT
DTSTART;TZID=America/Los_Angeles:20260820T151500
DTEND;TZID=America/Los_Angeles:20260820T163000
DTSTAMP:20260423T063043
CREATED:20260410T042216Z
LAST-MODIFIED:20260410T042216Z
UID:1123-1787238900-1787243400@westlakecharter.com
SUMMARY:Book Fair
DESCRIPTION:Here is our link for the Westlake Charter Scholastic Book Fair.
URL:https://westlakecharter.com/event/book-fair-55/
LOCATION:Westlake Charter School\, 2680 Mabry Dr\, Sacramento\, CA 95835\, USA\, E116 Galapagos Islands (Media Center)
CATEGORIES:Featured
END:VEVENT
BEGIN:VEVENT
DTSTART;TZID=America/Los_Angeles:20260824T151500
DTEND;TZID=America/Los_Angeles:20260824T163000
DTSTAMP:20260423T063043
CREATED:20260410T042216Z
LAST-MODIFIED:20260410T042216Z
UID:1124-1787584500-1787589000@westlakecharter.com
SUMMARY:Book Fair
DESCRIPTION:Here is our link for the Westlake Charter Scholastic Book Fair.
URL:https://westlakecharter.com/event/book-fair-56/
LOCATION:Westlake Charter School\, 2680 Mabry Dr\, Sacramento\, CA 95835\, USA\, E116 Galapagos Islands (Media Center)
CATEGORIES:Featured
END:VEVENT
BEGIN:VEVENT
DTSTART;TZID=America/Los_Angeles:20260825T151500
DTEND;TZID=America/Los_Angeles:20260825T163000
DTSTAMP:20260423T063043
CREATED:20260410T042216Z
LAST-MODIFIED:20260410T042216Z
UID:1125-1787670900-1787675400@westlakecharter.com
SUMMARY:Book Fair
DESCRIPTION:Here is our link for the Westlake Charter Scholastic Book Fair.
URL:https://westlakecharter.com/event/book-fair-57/
LOCATION:Westlake Charter School\, 2680 Mabry Dr\, Sacramento\, CA 95835\, USA\, E116 Galapagos Islands (Media Center)
CATEGORIES:Featured
END:VEVENT
BEGIN:VEVENT
DTSTART;TZID=America/Los_Angeles:20260827T151500
DTEND;TZID=America/Los_Angeles:20260827T163000
DTSTAMP:20260423T063043
CREATED:20260410T042216Z
LAST-MODIFIED:20260410T042216Z
UID:1126-1787843700-1787848200@westlakecharter.com
SUMMARY:Book Fair
DESCRIPTION:Here is our link for the Westlake Charter Scholastic Book Fair.
URL:https://westlakecharter.com/event/book-fair-58/
LOCATION:Westlake Charter School\, 2680 Mabry Dr\, Sacramento\, CA 95835\, USA\, E116 Galapagos Islands (Media Center)
CATEGORIES:Featured
END:VEVENT
BEGIN:VEVENT
DTSTART;TZID=America/Los_Angeles:20260831T151500
DTEND;TZID=America/Los_Angeles:20260831T163000
DTSTAMP:20260423T063043
CREATED:20260410T042216Z
LAST-MODIFIED:20260410T042216Z
UID:1127-1788189300-1788193800@westlakecharter.com
SUMMARY:Book Fair
DESCRIPTION:Here is our link for the Westlake Charter Scholastic Book Fair.
URL:https://westlakecharter.com/event/book-fair-59/
LOCATION:Westlake Charter School\, 2680 Mabry Dr\, Sacramento\, CA 95835\, USA\, E116 Galapagos Islands (Media Center)
CATEGORIES:Featured
END:VEVENT
END:VCALENDAR