BEGIN:VCALENDAR
VERSION:2.0
PRODID:-//Westlake Charter School - ECPv6.15.17.1//NONSGML v1.0//EN
CALSCALE:GREGORIAN
METHOD:PUBLISH
X-ORIGINAL-URL:https://westlakecharter.com
X-WR-CALDESC:Events for Westlake Charter School
REFRESH-INTERVAL;VALUE=DURATION:PT1H
X-Robots-Tag:noindex
X-PUBLISHED-TTL:PT1H
BEGIN:VTIMEZONE
TZID:America/Los_Angeles
BEGIN:DAYLIGHT
TZOFFSETFROM:-0800
TZOFFSETTO:-0700
TZNAME:PDT
DTSTART:20250309T100000
END:DAYLIGHT
BEGIN:STANDARD
TZOFFSETFROM:-0700
TZOFFSETTO:-0800
TZNAME:PST
DTSTART:20251102T090000
END:STANDARD
BEGIN:DAYLIGHT
TZOFFSETFROM:-0800
TZOFFSETTO:-0700
TZNAME:PDT
DTSTART:20260308T100000
END:DAYLIGHT
BEGIN:STANDARD
TZOFFSETFROM:-0700
TZOFFSETTO:-0800
TZNAME:PST
DTSTART:20261101T090000
END:STANDARD
BEGIN:DAYLIGHT
TZOFFSETFROM:-0800
TZOFFSETTO:-0700
TZNAME:PDT
DTSTART:20270314T100000
END:DAYLIGHT
BEGIN:STANDARD
TZOFFSETFROM:-0700
TZOFFSETTO:-0800
TZNAME:PST
DTSTART:20271107T090000
END:STANDARD
END:VTIMEZONE
BEGIN:VEVENT
DTSTART;TZID=America/Los_Angeles:20260702T151500
DTEND;TZID=America/Los_Angeles:20260702T163000
DTSTAMP:20260423T051137
CREATED:20260410T042213Z
LAST-MODIFIED:20260410T042213Z
UID:1102-1783005300-1783009800@westlakecharter.com
SUMMARY:Book Fair
DESCRIPTION:Here is our link for the Westlake Charter Scholastic Book Fair.
URL:https://westlakecharter.com/event/book-fair-34/
LOCATION:Westlake Charter School\, 2680 Mabry Dr\, Sacramento\, CA 95835\, USA\, E116 Galapagos Islands (Media Center)
CATEGORIES:Featured
END:VEVENT
BEGIN:VEVENT
DTSTART;TZID=America/Los_Angeles:20260706T151500
DTEND;TZID=America/Los_Angeles:20260706T163000
DTSTAMP:20260423T051137
CREATED:20260410T042213Z
LAST-MODIFIED:20260410T042213Z
UID:1103-1783350900-1783355400@westlakecharter.com
SUMMARY:Book Fair
DESCRIPTION:Here is our link for the Westlake Charter Scholastic Book Fair.
URL:https://westlakecharter.com/event/book-fair-35/
LOCATION:Westlake Charter School\, 2680 Mabry Dr\, Sacramento\, CA 95835\, USA\, E116 Galapagos Islands (Media Center)
CATEGORIES:Featured
END:VEVENT
BEGIN:VEVENT
DTSTART;TZID=America/Los_Angeles:20260707T151500
DTEND;TZID=America/Los_Angeles:20260707T163000
DTSTAMP:20260423T051137
CREATED:20260410T042213Z
LAST-MODIFIED:20260410T042213Z
UID:1104-1783437300-1783441800@westlakecharter.com
SUMMARY:Book Fair
DESCRIPTION:Here is our link for the Westlake Charter Scholastic Book Fair.
URL:https://westlakecharter.com/event/book-fair-36/
LOCATION:Westlake Charter School\, 2680 Mabry Dr\, Sacramento\, CA 95835\, USA\, E116 Galapagos Islands (Media Center)
CATEGORIES:Featured
END:VEVENT
BEGIN:VEVENT
DTSTART;TZID=America/Los_Angeles:20260709T151500
DTEND;TZID=America/Los_Angeles:20260709T163000
DTSTAMP:20260423T051137
CREATED:20260410T042213Z
LAST-MODIFIED:20260410T042213Z
UID:1105-1783610100-1783614600@westlakecharter.com
SUMMARY:Book Fair
DESCRIPTION:Here is our link for the Westlake Charter Scholastic Book Fair.
URL:https://westlakecharter.com/event/book-fair-37/
LOCATION:Westlake Charter School\, 2680 Mabry Dr\, Sacramento\, CA 95835\, USA\, E116 Galapagos Islands (Media Center)
CATEGORIES:Featured
END:VEVENT
BEGIN:VEVENT
DTSTART;TZID=America/Los_Angeles:20260713T151500
DTEND;TZID=America/Los_Angeles:20260713T163000
DTSTAMP:20260423T051137
CREATED:20260410T042214Z
LAST-MODIFIED:20260410T042214Z
UID:1106-1783955700-1783960200@westlakecharter.com
SUMMARY:Book Fair
DESCRIPTION:Here is our link for the Westlake Charter Scholastic Book Fair.
URL:https://westlakecharter.com/event/book-fair-38/
LOCATION:Westlake Charter School\, 2680 Mabry Dr\, Sacramento\, CA 95835\, USA\, E116 Galapagos Islands (Media Center)
CATEGORIES:Featured
END:VEVENT
BEGIN:VEVENT
DTSTART;TZID=America/Los_Angeles:20260714T151500
DTEND;TZID=America/Los_Angeles:20260714T163000
DTSTAMP:20260423T051137
CREATED:20260410T042214Z
LAST-MODIFIED:20260410T042214Z
UID:1107-1784042100-1784046600@westlakecharter.com
SUMMARY:Book Fair
DESCRIPTION:Here is our link for the Westlake Charter Scholastic Book Fair.
URL:https://westlakecharter.com/event/book-fair-39/
LOCATION:Westlake Charter School\, 2680 Mabry Dr\, Sacramento\, CA 95835\, USA\, E116 Galapagos Islands (Media Center)
CATEGORIES:Featured
END:VEVENT
BEGIN:VEVENT
DTSTART;TZID=America/Los_Angeles:20260716T151500
DTEND;TZID=America/Los_Angeles:20260716T163000
DTSTAMP:20260423T051137
CREATED:20260410T042214Z
LAST-MODIFIED:20260410T042214Z
UID:1108-1784214900-1784219400@westlakecharter.com
SUMMARY:Book Fair
DESCRIPTION:Here is our link for the Westlake Charter Scholastic Book Fair.
URL:https://westlakecharter.com/event/book-fair-40/
LOCATION:Westlake Charter School\, 2680 Mabry Dr\, Sacramento\, CA 95835\, USA\, E116 Galapagos Islands (Media Center)
CATEGORIES:Featured
END:VEVENT
BEGIN:VEVENT
DTSTART;TZID=America/Los_Angeles:20260720T151500
DTEND;TZID=America/Los_Angeles:20260720T163000
DTSTAMP:20260423T051137
CREATED:20260410T042214Z
LAST-MODIFIED:20260410T042214Z
UID:1109-1784560500-1784565000@westlakecharter.com
SUMMARY:Book Fair
DESCRIPTION:Here is our link for the Westlake Charter Scholastic Book Fair.
URL:https://westlakecharter.com/event/book-fair-41/
LOCATION:Westlake Charter School\, 2680 Mabry Dr\, Sacramento\, CA 95835\, USA\, E116 Galapagos Islands (Media Center)
CATEGORIES:Featured
END:VEVENT
BEGIN:VEVENT
DTSTART;TZID=America/Los_Angeles:20260721T151500
DTEND;TZID=America/Los_Angeles:20260721T163000
DTSTAMP:20260423T051137
CREATED:20260410T042214Z
LAST-MODIFIED:20260410T042214Z
UID:1110-1784646900-1784651400@westlakecharter.com
SUMMARY:Book Fair
DESCRIPTION:Here is our link for the Westlake Charter Scholastic Book Fair.
URL:https://westlakecharter.com/event/book-fair-42/
LOCATION:Westlake Charter School\, 2680 Mabry Dr\, Sacramento\, CA 95835\, USA\, E116 Galapagos Islands (Media Center)
CATEGORIES:Featured
END:VEVENT
BEGIN:VEVENT
DTSTART;TZID=America/Los_Angeles:20260723T151500
DTEND;TZID=America/Los_Angeles:20260723T163000
DTSTAMP:20260423T051137
CREATED:20260410T042214Z
LAST-MODIFIED:20260410T042214Z
UID:1111-1784819700-1784824200@westlakecharter.com
SUMMARY:Book Fair
DESCRIPTION:Here is our link for the Westlake Charter Scholastic Book Fair.
URL:https://westlakecharter.com/event/book-fair-43/
LOCATION:Westlake Charter School\, 2680 Mabry Dr\, Sacramento\, CA 95835\, USA\, E116 Galapagos Islands (Media Center)
CATEGORIES:Featured
END:VEVENT
BEGIN:VEVENT
DTSTART;TZID=America/Los_Angeles:20260727T151500
DTEND;TZID=America/Los_Angeles:20260727T163000
DTSTAMP:20260423T051137
CREATED:20260410T042214Z
LAST-MODIFIED:20260410T042214Z
UID:1112-1785165300-1785169800@westlakecharter.com
SUMMARY:Book Fair
DESCRIPTION:Here is our link for the Westlake Charter Scholastic Book Fair.
URL:https://westlakecharter.com/event/book-fair-44/
LOCATION:Westlake Charter School\, 2680 Mabry Dr\, Sacramento\, CA 95835\, USA\, E116 Galapagos Islands (Media Center)
CATEGORIES:Featured
END:VEVENT
BEGIN:VEVENT
DTSTART;TZID=America/Los_Angeles:20260728T151500
DTEND;TZID=America/Los_Angeles:20260728T163000
DTSTAMP:20260423T051137
CREATED:20260410T042214Z
LAST-MODIFIED:20260410T042214Z
UID:1113-1785251700-1785256200@westlakecharter.com
SUMMARY:Book Fair
DESCRIPTION:Here is our link for the Westlake Charter Scholastic Book Fair.
URL:https://westlakecharter.com/event/book-fair-45/
LOCATION:Westlake Charter School\, 2680 Mabry Dr\, Sacramento\, CA 95835\, USA\, E116 Galapagos Islands (Media Center)
CATEGORIES:Featured
END:VEVENT
BEGIN:VEVENT
DTSTART;TZID=America/Los_Angeles:20260730T151500
DTEND;TZID=America/Los_Angeles:20260730T163000
DTSTAMP:20260423T051137
CREATED:20260410T042215Z
LAST-MODIFIED:20260410T042215Z
UID:1114-1785424500-1785429000@westlakecharter.com
SUMMARY:Book Fair
DESCRIPTION:Here is our link for the Westlake Charter Scholastic Book Fair.
URL:https://westlakecharter.com/event/book-fair-46/
LOCATION:Westlake Charter School\, 2680 Mabry Dr\, Sacramento\, CA 95835\, USA\, E116 Galapagos Islands (Media Center)
CATEGORIES:Featured
END:VEVENT
END:VCALENDAR