BEGIN:VCALENDAR
VERSION:2.0
PRODID:-//Westlake Charter School - ECPv6.15.17.1//NONSGML v1.0//EN
CALSCALE:GREGORIAN
METHOD:PUBLISH
X-ORIGINAL-URL:https://westlakecharter.com
X-WR-CALDESC:Events for Westlake Charter School
REFRESH-INTERVAL;VALUE=DURATION:PT1H
X-Robots-Tag:noindex
X-PUBLISHED-TTL:PT1H
BEGIN:VTIMEZONE
TZID:America/Los_Angeles
BEGIN:DAYLIGHT
TZOFFSETFROM:-0800
TZOFFSETTO:-0700
TZNAME:PDT
DTSTART:20250309T100000
END:DAYLIGHT
BEGIN:STANDARD
TZOFFSETFROM:-0700
TZOFFSETTO:-0800
TZNAME:PST
DTSTART:20251102T090000
END:STANDARD
BEGIN:DAYLIGHT
TZOFFSETFROM:-0800
TZOFFSETTO:-0700
TZNAME:PDT
DTSTART:20260308T100000
END:DAYLIGHT
BEGIN:STANDARD
TZOFFSETFROM:-0700
TZOFFSETTO:-0800
TZNAME:PST
DTSTART:20261101T090000
END:STANDARD
BEGIN:DAYLIGHT
TZOFFSETFROM:-0800
TZOFFSETTO:-0700
TZNAME:PDT
DTSTART:20270314T100000
END:DAYLIGHT
BEGIN:STANDARD
TZOFFSETFROM:-0700
TZOFFSETTO:-0800
TZNAME:PST
DTSTART:20271107T090000
END:STANDARD
END:VTIMEZONE
BEGIN:VEVENT
DTSTART;VALUE=DATE:20260522
DTEND;VALUE=DATE:20260523
DTSTAMP:20260419T045719
CREATED:20260312T212050Z
LAST-MODIFIED:20260419T043609Z
UID:236-1779408000-1779494399@westlakecharter.com
SUMMARY:K-8 Spirit Day - Book Character Day
DESCRIPTION:Dress as your favorite book character.
URL:https://westlakecharter.com/event/k-8-spirit-day-book-character-day/
LOCATION:Westlake Charter School\, 2680 Mabry Dr\, Sacramento\, CA\, United States
CATEGORIES:Featured
ORGANIZER;CN="westlakecharter.com_fjnhlrhkcfrv2rr0f8inlhs8m0@group.calendar.google.com":MAILTO:westlakecharter.com_fjnhlrhkcfrv2rr0f8inlhs8m0@group.calendar.google.com
END:VEVENT
BEGIN:VEVENT
DTSTART;TZID=America/Los_Angeles:20260522T080000
DTEND;TZID=America/Los_Angeles:20260522T083000
DTSTAMP:20260419T045719
CREATED:20260312T212050Z
LAST-MODIFIED:20260419T043609Z
UID:235-1779436800-1779438600@westlakecharter.com
SUMMARY:Music Fridays Morning Lineup
DESCRIPTION:K-8 Blacktop
URL:https://westlakecharter.com/event/music-fridays-morning-lineup-10/
LOCATION:Westlake Charter School\, 2680 Mabry Dr\, Sacramento\, CA\, United States
CATEGORIES:Featured
END:VEVENT
BEGIN:VEVENT
DTSTART;TZID=America/Los_Angeles:20260522T083500
DTEND;TZID=America/Los_Angeles:20260522T091500
DTSTAMP:20260419T045719
CREATED:20260312T212050Z
LAST-MODIFIED:20260419T043609Z
UID:199-1779438900-1779441300@westlakecharter.com
SUMMARY:K-2 Core Value Assembly
DESCRIPTION:
URL:https://westlakecharter.com/event/k-2-core-value-assembly/
LOCATION:Westlake Charter School\, 2680 Mabry Dr\, Sacramento\, CA 95835\, USA\, E119 Andes Mountains (Gym)\, E121 Angel Falls (Indoor Stage)
CATEGORIES:Featured
END:VEVENT
BEGIN:VEVENT
DTSTART;TZID=America/Los_Angeles:20260522T093000
DTEND;TZID=America/Los_Angeles:20260522T101000
DTSTAMP:20260419T045719
CREATED:20260312T212050Z
LAST-MODIFIED:20260419T043609Z
UID:200-1779442200-1779444600@westlakecharter.com
SUMMARY:3rd-5th Core Value Assembly
DESCRIPTION:
URL:https://westlakecharter.com/event/3rd-5th-core-value-assembly/
LOCATION:Westlake Charter School\, 2680 Mabry Dr\, Sacramento\, CA 95835\, USA\, E119 Andes Mountains (Gym)\, E121 Angel Falls (Indoor Stage)
CATEGORIES:Featured
END:VEVENT
END:VCALENDAR